BEGIN:VCALENDAR
VERSION:2.0
PRODID:-//Parafia Prawosławna pw. Świętej Trójcy w Bielsku-Białej - ECPv6.15.12.2//NONSGML v1.0//EN
CALSCALE:GREGORIAN
METHOD:PUBLISH
X-WR-CALNAME:Parafia Prawosławna pw. Świętej Trójcy w Bielsku-Białej
X-ORIGINAL-URL:https://bielskobiala.cerkiew.pl
X-WR-CALDESC:Wydarzenia dla Parafia Prawosławna pw. Świętej Trójcy w Bielsku-Białej
REFRESH-INTERVAL;VALUE=DURATION:PT1H
X-Robots-Tag:noindex
X-PUBLISHED-TTL:PT1H
BEGIN:VTIMEZONE
TZID:Europe/Warsaw
BEGIN:DAYLIGHT
TZOFFSETFROM:+0100
TZOFFSETTO:+0200
TZNAME:CEST
DTSTART:20250330T010000
END:DAYLIGHT
BEGIN:STANDARD
TZOFFSETFROM:+0200
TZOFFSETTO:+0100
TZNAME:CET
DTSTART:20251026T010000
END:STANDARD
BEGIN:DAYLIGHT
TZOFFSETFROM:+0100
TZOFFSETTO:+0200
TZNAME:CEST
DTSTART:20260329T010000
END:DAYLIGHT
BEGIN:STANDARD
TZOFFSETFROM:+0200
TZOFFSETTO:+0100
TZNAME:CET
DTSTART:20261025T010000
END:STANDARD
BEGIN:DAYLIGHT
TZOFFSETFROM:+0100
TZOFFSETTO:+0200
TZNAME:CEST
DTSTART:20270328T010000
END:DAYLIGHT
BEGIN:STANDARD
TZOFFSETFROM:+0200
TZOFFSETTO:+0100
TZNAME:CET
DTSTART:20271031T010000
END:STANDARD
END:VTIMEZONE
BEGIN:VEVENT
DTSTART;TZID=Europe/Warsaw:20260201T090000
DTEND;TZID=Europe/Warsaw:20260201T090000
DTSTAMP:20260419T155254
CREATED:20260130T105218Z
LAST-MODIFIED:20260130T105218Z
UID:7337-1769936400-1769936400@bielskobiala.cerkiew.pl
SUMMARY:Liturgia Święta - Niedziela o celniku i faryzeuszu  - molebien przed ikoną z relikwiami św. młodzieńca męczennika Gabriela Zabłudowskiego
DESCRIPTION:spowiedź od 8:00
URL:https://bielskobiala.cerkiew.pl/nabozenstwa/liturgia-swieta-niedziela-o-celniku-i-faryzeuszu-molebien-przed-ikona-z-relikwiami-sw-mlodzienca-meczennika-gabriela-zabludowskiego
LOCATION:Cerkiew Prawosławna pw. Świętej Trójcy\, Jeżynowa / Rysia\, Bielsko-Biała\, śląskie\, 43-300\, Poland
END:VEVENT
BEGIN:VEVENT
DTSTART;VALUE=DATE:20260202
DTEND;VALUE=DATE:20260209
DTSTAMP:20260419T155254
CREATED:20260130T105306Z
LAST-MODIFIED:20260130T105306Z
UID:7339-1769990400-1770595199@bielskobiala.cerkiew.pl
SUMMARY:Tydzień ciągły bez postu
DESCRIPTION:
URL:https://bielskobiala.cerkiew.pl/nabozenstwa/tydzien-ciagly-bez-postu
LOCATION:śląskie
END:VEVENT
BEGIN:VEVENT
DTSTART;TZID=Europe/Warsaw:20260207T170000
DTEND;TZID=Europe/Warsaw:20260207T170000
DTSTAMP:20260419T155254
CREATED:20260130T105344Z
LAST-MODIFIED:20260130T105344Z
UID:7341-1770483600-1770483600@bielskobiala.cerkiew.pl
SUMMARY:Całonocne czuwanie
DESCRIPTION:spowiedź po nabożeństwie
URL:https://bielskobiala.cerkiew.pl/nabozenstwa/calonocne-czuwanie-75
LOCATION:Cerkiew Prawosławna pw. Świętej Trójcy\, Jeżynowa / Rysia\, Bielsko-Biała\, śląskie\, 43-300\, Poland
END:VEVENT
BEGIN:VEVENT
DTSTART;TZID=Europe/Warsaw:20260208T090000
DTEND;TZID=Europe/Warsaw:20260208T090000
DTSTAMP:20260419T155254
CREATED:20260130T105423Z
LAST-MODIFIED:20260130T105423Z
UID:7343-1770541200-1770541200@bielskobiala.cerkiew.pl
SUMMARY:Liturgia Święta - Niedziela o synu marnotrawnym
DESCRIPTION:spowiedź od 8:00
URL:https://bielskobiala.cerkiew.pl/nabozenstwa/liturgia-swieta-niedziela-o-synu-marnotrawnym-2
LOCATION:Cerkiew Prawosławna pw. Świętej Trójcy\, Jeżynowa / Rysia\, Bielsko-Biała\, śląskie\, 43-300\, Poland
END:VEVENT
BEGIN:VEVENT
DTSTART;TZID=Europe/Warsaw:20260212T090000
DTEND;TZID=Europe/Warsaw:20260212T090000
DTSTAMP:20260419T155254
CREATED:20260130T105512Z
LAST-MODIFIED:20260130T105512Z
UID:7345-1770886800-1770886800@bielskobiala.cerkiew.pl
SUMMARY:Liturgia Święta - Sobór Trzech Wielkich Hierarchów  i Nauczycieli Kościoła: Bazylego Wielkiego\, Grzegorza Teologa i Jana Chryzostoma
DESCRIPTION:spowiedź od 8:30
URL:https://bielskobiala.cerkiew.pl/nabozenstwa/liturgia-swieta-sobor-trzech-wielkich-hierarchow-i-nauczycieli-kosciola-bazylego-wielkiego-grzegorza-teologa-i-jana-chryzostoma-2
LOCATION:Cerkiew Prawosławna pw. Świętej Trójcy\, Jeżynowa / Rysia\, Bielsko-Biała\, śląskie\, 43-300\, Poland
END:VEVENT
BEGIN:VEVENT
DTSTART;TZID=Europe/Warsaw:20260214T090000
DTEND;TZID=Europe/Warsaw:20260214T090000
DTSTAMP:20260419T155254
CREATED:20260130T105607Z
LAST-MODIFIED:20260130T105607Z
UID:7347-1771059600-1771059600@bielskobiala.cerkiew.pl
SUMMARY:Liturgia Święta - Sobota Rodzicielska (Mięsopustna) - Wspomnienie zmarłych - Panichida sprawowana bezpośrednio  po Liturgii Świętej
DESCRIPTION:spowiedź od 8:30
URL:https://bielskobiala.cerkiew.pl/nabozenstwa/liturgia-swieta-sobota-rodzicielska-miesopustna-wspomnienie-zmarlych-panichida-sprawowana-bezposrednio-po-liturgii-swietej-2
LOCATION:Cerkiew Prawosławna pw. Świętej Trójcy\, Jeżynowa / Rysia\, Bielsko-Biała\, śląskie\, 43-300\, Poland
END:VEVENT
BEGIN:VEVENT
DTSTART;TZID=Europe/Warsaw:20260214T170000
DTEND;TZID=Europe/Warsaw:20260214T170000
DTSTAMP:20260419T155254
CREATED:20260130T105644Z
LAST-MODIFIED:20260130T105644Z
UID:7349-1771088400-1771088400@bielskobiala.cerkiew.pl
SUMMARY:Całonocne czuwanie - Wigilia Święta Spotkania Pańskiego
DESCRIPTION:spowiedź po nabożeństwie
URL:https://bielskobiala.cerkiew.pl/nabozenstwa/calonocne-czuwanie-wigilia-swieta-spotkania-panskiego-2
LOCATION:Cerkiew Prawosławna pw. Świętej Trójcy\, Jeżynowa / Rysia\, Bielsko-Biała\, śląskie\, 43-300\, Poland
END:VEVENT
BEGIN:VEVENT
DTSTART;TZID=Europe/Warsaw:20260215T090000
DTEND;TZID=Europe/Warsaw:20260215T090000
DTSTAMP:20260419T155254
CREATED:20260130T105722Z
LAST-MODIFIED:20260130T105722Z
UID:7351-1771146000-1771146000@bielskobiala.cerkiew.pl
SUMMARY:Liturgia Święta - Święto Spotkania Pańskiego Niedziela o sądzie ostatecznym - Niedziela Mięsopustna
DESCRIPTION:spowiedź od 8:00
URL:https://bielskobiala.cerkiew.pl/nabozenstwa/liturgia-swieta-swieto-spotkania-panskiego-niedziela-o-sadzie-ostatecznym-niedziela-miesopustna
LOCATION:Cerkiew Prawosławna pw. Świętej Trójcy\, Jeżynowa / Rysia\, Bielsko-Biała\, śląskie\, 43-300\, Poland
END:VEVENT
BEGIN:VEVENT
DTSTART;VALUE=DATE:20260216
DTEND;VALUE=DATE:20260223
DTSTAMP:20260419T155254
CREATED:20260130T105806Z
LAST-MODIFIED:20260130T105806Z
UID:7353-1771200000-1771804799@bielskobiala.cerkiew.pl
SUMMARY:Tydzień ciągły bez postu.  Maslenica
DESCRIPTION:
URL:https://bielskobiala.cerkiew.pl/nabozenstwa/tydzien-ciagly-bez-postu-maslenica-2
LOCATION:śląskie
END:VEVENT
BEGIN:VEVENT
DTSTART;TZID=Europe/Warsaw:20260221T170000
DTEND;TZID=Europe/Warsaw:20260221T170000
DTSTAMP:20260419T155254
CREATED:20260130T105841Z
LAST-MODIFIED:20260130T105841Z
UID:7355-1771693200-1771693200@bielskobiala.cerkiew.pl
SUMMARY:Całonocne czuwanie
DESCRIPTION:spowiedź po nabożeństwie
URL:https://bielskobiala.cerkiew.pl/nabozenstwa/calonocne-czuwanie-76
LOCATION:Cerkiew Prawosławna pw. Świętej Trójcy\, Jeżynowa / Rysia\, Bielsko-Biała\, śląskie\, 43-300\, Poland
END:VEVENT
BEGIN:VEVENT
DTSTART;TZID=Europe/Warsaw:20260222T090000
DTEND;TZID=Europe/Warsaw:20260222T090000
DTSTAMP:20260419T155254
CREATED:20260130T105932Z
LAST-MODIFIED:20260130T105933Z
UID:7357-1771750800-1771750800@bielskobiala.cerkiew.pl
SUMMARY:Liturgia Święta - Niedziela przebaczenia win. Niedziela seropustna. Wspomnienie wypędzenia Adama z Raju - Wieczernia z obrzędem przebaczenia win – bezpośrednio po Liturgii Świętej
DESCRIPTION:spowiedź od 8:00
URL:https://bielskobiala.cerkiew.pl/nabozenstwa/liturgia-swieta-niedziela-przebaczenia-win-niedziela-seropustna-wspomnienie-wypedzenia-adama-z-raju-wieczernia-z-obrzedem-przebaczenia-win-bezposrednio-po-liturgii-swietej-2
LOCATION:Cerkiew Prawosławna pw. Świętej Trójcy\, Jeżynowa / Rysia\, Bielsko-Biała\, śląskie\, 43-300\, Poland
END:VEVENT
BEGIN:VEVENT
DTSTART;VALUE=DATE:20260223
DTEND;VALUE=DATE:20260224
DTSTAMP:20260419T155254
CREATED:20260130T110005Z
LAST-MODIFIED:20260130T110005Z
UID:7359-1771804800-1771891199@bielskobiala.cerkiew.pl
SUMMARY:POCZĄTEK WIELKIEGO POSTU
DESCRIPTION:
URL:https://bielskobiala.cerkiew.pl/nabozenstwa/poczatek-wielkiego-postu
LOCATION:śląskie
END:VEVENT
BEGIN:VEVENT
DTSTART;TZID=Europe/Warsaw:20260223T170000
DTEND;TZID=Europe/Warsaw:20260223T170000
DTSTAMP:20260419T155254
CREATED:20260130T110039Z
LAST-MODIFIED:20260130T110039Z
UID:7361-1771866000-1771866000@bielskobiala.cerkiew.pl
SUMMARY:Wielkie powieczerze z czytaniem  kanonu św. Andrzeja z Krety
DESCRIPTION:
URL:https://bielskobiala.cerkiew.pl/nabozenstwa/wielkie-powieczerze-z-czytaniem-kanonu-sw-andrzeja-z-krety-5
LOCATION:Cerkiew Prawosławna pw. Świętej Trójcy\, Jeżynowa / Rysia\, Bielsko-Biała\, śląskie\, 43-300\, Poland
END:VEVENT
BEGIN:VEVENT
DTSTART;TZID=Europe/Warsaw:20260224T170000
DTEND;TZID=Europe/Warsaw:20260224T170000
DTSTAMP:20260419T155254
CREATED:20260130T110054Z
LAST-MODIFIED:20260130T110054Z
UID:7363-1771952400-1771952400@bielskobiala.cerkiew.pl
SUMMARY:Wielkie powieczerze z czytaniem  kanonu św. Andrzeja z Krety
DESCRIPTION:
URL:https://bielskobiala.cerkiew.pl/nabozenstwa/wielkie-powieczerze-z-czytaniem-kanonu-sw-andrzeja-z-krety-6
LOCATION:Cerkiew Prawosławna pw. Świętej Trójcy\, Jeżynowa / Rysia\, Bielsko-Biała\, śląskie\, 43-300\, Poland
END:VEVENT
BEGIN:VEVENT
DTSTART;TZID=Europe/Warsaw:20260225T170000
DTEND;TZID=Europe/Warsaw:20260225T170000
DTSTAMP:20260419T155254
CREATED:20260130T110110Z
LAST-MODIFIED:20260130T110110Z
UID:7365-1772038800-1772038800@bielskobiala.cerkiew.pl
SUMMARY:Wielkie powieczerze z czytaniem  kanonu św. Andrzeja z Krety
DESCRIPTION:
URL:https://bielskobiala.cerkiew.pl/nabozenstwa/wielkie-powieczerze-z-czytaniem-kanonu-sw-andrzeja-z-krety-7
LOCATION:Cerkiew Prawosławna pw. Świętej Trójcy\, Jeżynowa / Rysia\, Bielsko-Biała\, śląskie\, 43-300\, Poland
END:VEVENT
BEGIN:VEVENT
DTSTART;TZID=Europe/Warsaw:20260226T170000
DTEND;TZID=Europe/Warsaw:20260226T170000
DTSTAMP:20260419T155254
CREATED:20260130T110126Z
LAST-MODIFIED:20260130T110126Z
UID:7367-1772125200-1772125200@bielskobiala.cerkiew.pl
SUMMARY:Wielkie powieczerze z czytaniem  kanonu św. Andrzeja z Krety
DESCRIPTION:
URL:https://bielskobiala.cerkiew.pl/nabozenstwa/wielkie-powieczerze-z-czytaniem-kanonu-sw-andrzeja-z-krety-8
LOCATION:Cerkiew Prawosławna pw. Świętej Trójcy\, Jeżynowa / Rysia\, Bielsko-Biała\, śląskie\, 43-300\, Poland
END:VEVENT
BEGIN:VEVENT
DTSTART;TZID=Europe/Warsaw:20260227T170000
DTEND;TZID=Europe/Warsaw:20260227T170000
DTSTAMP:20260419T155254
CREATED:20260130T110219Z
LAST-MODIFIED:20260130T110219Z
UID:7369-1772211600-1772211600@bielskobiala.cerkiew.pl
SUMMARY:Liturgia Uprzednio Uświęconych Darów  - Poświęcenie koliwa
DESCRIPTION:spowiedź od 16:45
URL:https://bielskobiala.cerkiew.pl/nabozenstwa/liturgia-uprzednio-uswieconych-darow-poswiecenie-koliwa-2
LOCATION:Cerkiew Prawosławna pw. Świętej Trójcy\, Jeżynowa / Rysia\, Bielsko-Biała\, śląskie\, 43-300\, Poland
END:VEVENT
BEGIN:VEVENT
DTSTART;TZID=Europe/Warsaw:20260228T090000
DTEND;TZID=Europe/Warsaw:20260228T090000
DTSTAMP:20260419T155254
CREATED:20260130T110252Z
LAST-MODIFIED:20260130T110252Z
UID:7371-1772269200-1772269200@bielskobiala.cerkiew.pl
SUMMARY:Liturgia Święta - Wspomnienie cudu św. Teodora Tyrona
DESCRIPTION:spowiedź od 8:30
URL:https://bielskobiala.cerkiew.pl/nabozenstwa/liturgia-swieta-wspomnienie-cudu-sw-teodora-tyrona-2
LOCATION:Cerkiew Prawosławna pw. Świętej Trójcy\, Jeżynowa / Rysia\, Bielsko-Biała\, śląskie\, 43-300\, Poland
END:VEVENT
BEGIN:VEVENT
DTSTART;TZID=Europe/Warsaw:20260228T170000
DTEND;TZID=Europe/Warsaw:20260228T170000
DTSTAMP:20260419T155254
CREATED:20260130T110317Z
LAST-MODIFIED:20260130T110317Z
UID:7373-1772298000-1772298000@bielskobiala.cerkiew.pl
SUMMARY:Całonocne czuwanie
DESCRIPTION:spowiedź po nabożeństwie
URL:https://bielskobiala.cerkiew.pl/nabozenstwa/calonocne-czuwanie-77
LOCATION:Cerkiew Prawosławna pw. Świętej Trójcy\, Jeżynowa / Rysia\, Bielsko-Biała\, śląskie\, 43-300\, Poland
END:VEVENT
BEGIN:VEVENT
DTSTART;TZID=Europe/Warsaw:20260301T090000
DTEND;TZID=Europe/Warsaw:20260301T090000
DTSTAMP:20260419T155254
CREATED:20260226T083445Z
LAST-MODIFIED:20260226T083445Z
UID:7522-1772355600-1772355600@bielskobiala.cerkiew.pl
SUMMARY:Liturgia Święta - I Niedziela Wielkiego Postu.  Triumf Ortodoksji  - molebien niedzieli Triumfu Prawosławia
DESCRIPTION:spowiedź od 8:00
URL:https://bielskobiala.cerkiew.pl/nabozenstwa/liturgia-swieta-i-niedziela-wielkiego-postu-triumf-ortodoksji-molebien-niedzieli-triumfu-prawoslawia
LOCATION:Cerkiew Prawosławna pw. Świętej Trójcy\, Jeżynowa / Rysia\, Bielsko-Biała\, śląskie\, 43-300\, Poland
END:VEVENT
BEGIN:VEVENT
DTSTART;TZID=Europe/Warsaw:20260304T170000
DTEND;TZID=Europe/Warsaw:20260304T170000
DTSTAMP:20260419T155254
CREATED:20260226T083600Z
LAST-MODIFIED:20260226T083600Z
UID:7524-1772643600-1772643600@bielskobiala.cerkiew.pl
SUMMARY:Liturgia Uprzednio Uświęconych Darów
DESCRIPTION:spowiedź od 16:30
URL:https://bielskobiala.cerkiew.pl/nabozenstwa/liturgia-uprzednio-uswieconych-darow-8
LOCATION:Cerkiew Prawosławna pw. Świętej Trójcy\, Jeżynowa / Rysia\, Bielsko-Biała\, śląskie\, 43-300\, Poland
END:VEVENT
BEGIN:VEVENT
DTSTART;TZID=Europe/Warsaw:20260307T090000
DTEND;TZID=Europe/Warsaw:20260307T090000
DTSTAMP:20260419T155254
CREATED:20260226T083653Z
LAST-MODIFIED:20260226T083653Z
UID:7526-1772874000-1772874000@bielskobiala.cerkiew.pl
SUMMARY:Liturgia Święta - Wspomnienie zmarłych. Panichida sprawowana bezpośrednio  po Liturgii Świętej
DESCRIPTION:spowiedź od 8:30
URL:https://bielskobiala.cerkiew.pl/nabozenstwa/liturgia-swieta-wspomnienie-zmarlych-panichida-sprawowana-bezposrednio-po-liturgii-swietej-3
LOCATION:Cerkiew Prawosławna pw. Świętej Trójcy\, Jeżynowa / Rysia\, Bielsko-Biała\, śląskie\, 43-300\, Poland
END:VEVENT
BEGIN:VEVENT
DTSTART;TZID=Europe/Warsaw:20260307T170000
DTEND;TZID=Europe/Warsaw:20260307T170000
DTSTAMP:20260419T155254
CREATED:20260226T083720Z
LAST-MODIFIED:20260226T083720Z
UID:7528-1772902800-1772902800@bielskobiala.cerkiew.pl
SUMMARY:Całonocne czuwanie
DESCRIPTION:spowiedź po nabożeństwie
URL:https://bielskobiala.cerkiew.pl/nabozenstwa/calonocne-czuwanie-78
LOCATION:Cerkiew Prawosławna pw. Świętej Trójcy\, Jeżynowa / Rysia\, Bielsko-Biała\, śląskie\, 43-300\, Poland
END:VEVENT
BEGIN:VEVENT
DTSTART;TZID=Europe/Warsaw:20260308T090000
DTEND;TZID=Europe/Warsaw:20260308T090000
DTSTAMP:20260419T155254
CREATED:20260226T083806Z
LAST-MODIFIED:20260226T083806Z
UID:7530-1772960400-1772960400@bielskobiala.cerkiew.pl
SUMMARY:Liturgia Święta - II Niedziela Wielkiego Postu Niedziela św. Grzegorza Palamasa  - molebien przed ikoną z relikwiami św. młodzieńca męczennika Gabriela Zabłudowskiego
DESCRIPTION:spowiedź od 8:00
URL:https://bielskobiala.cerkiew.pl/nabozenstwa/liturgia-swieta-ii-niedziela-wielkiego-postu-niedziela-sw-grzegorza-palamasa-molebien-przed-ikona-z-relikwiami-sw-mlodzienca-meczennika-gabriela-zabludowskiego
LOCATION:Cerkiew Prawosławna pw. Świętej Trójcy\, Jeżynowa / Rysia\, Bielsko-Biała\, śląskie\, 43-300\, Poland
END:VEVENT
BEGIN:VEVENT
DTSTART;TZID=Europe/Warsaw:20260309T090000
DTEND;TZID=Europe/Warsaw:20260309T090000
DTSTAMP:20260419T155254
CREATED:20260226T083839Z
LAST-MODIFIED:20260226T083839Z
UID:7532-1773046800-1773046800@bielskobiala.cerkiew.pl
SUMMARY:Liturgia Uprzednio Uświęconych Darów - Pierwsze i drugie odnalezienie  Głowy św. Jana Chrzciciela
DESCRIPTION:spowiedź od 8:30
URL:https://bielskobiala.cerkiew.pl/nabozenstwa/liturgia-uprzednio-uswieconych-darow-pierwsze-i-drugie-odnalezienie-glowy-sw-jana-chrzciciela
LOCATION:Cerkiew Prawosławna pw. Świętej Trójcy\, Jeżynowa / Rysia\, Bielsko-Biała\, śląskie\, 43-300\, Poland
END:VEVENT
BEGIN:VEVENT
DTSTART;TZID=Europe/Warsaw:20260311T170000
DTEND;TZID=Europe/Warsaw:20260311T170000
DTSTAMP:20260419T155254
CREATED:20260226T083922Z
LAST-MODIFIED:20260226T083922Z
UID:7534-1773248400-1773248400@bielskobiala.cerkiew.pl
SUMMARY:Liturgia Uprzednio Uświęconych Darów
DESCRIPTION:spowiedź od 16:30
URL:https://bielskobiala.cerkiew.pl/nabozenstwa/liturgia-uprzednio-uswieconych-darow-9
LOCATION:Cerkiew Prawosławna pw. Świętej Trójcy\, Jeżynowa / Rysia\, Bielsko-Biała\, śląskie\, 43-300\, Poland
END:VEVENT
BEGIN:VEVENT
DTSTART;TZID=Europe/Warsaw:20260314T170000
DTEND;TZID=Europe/Warsaw:20260314T170000
DTSTAMP:20260419T155254
CREATED:20260226T083957Z
LAST-MODIFIED:20260226T083957Z
UID:7536-1773507600-1773507600@bielskobiala.cerkiew.pl
SUMMARY:Całonocne czuwanie
DESCRIPTION:spowiedź po nabożeństwie
URL:https://bielskobiala.cerkiew.pl/nabozenstwa/calonocne-czuwanie-79
LOCATION:Cerkiew Prawosławna pw. Świętej Trójcy\, Jeżynowa / Rysia\, Bielsko-Biała\, śląskie\, 43-300\, Poland
END:VEVENT
BEGIN:VEVENT
DTSTART;TZID=Europe/Warsaw:20260315T090000
DTEND;TZID=Europe/Warsaw:20260315T090000
DTSTAMP:20260419T155254
CREATED:20260226T084033Z
LAST-MODIFIED:20260226T084033Z
UID:7538-1773565200-1773565200@bielskobiala.cerkiew.pl
SUMMARY:Liturgia Święta - III Niedziela Wielkiego Postu Niedziela Świętego Krzyża
DESCRIPTION:spowiedź od 8:00
URL:https://bielskobiala.cerkiew.pl/nabozenstwa/liturgia-swieta-iii-niedziela-wielkiego-postu-niedziela-swietego-krzyza-2
LOCATION:Cerkiew Prawosławna pw. Świętej Trójcy\, Jeżynowa / Rysia\, Bielsko-Biała\, śląskie\, 43-300\, Poland
END:VEVENT
BEGIN:VEVENT
DTSTART;TZID=Europe/Warsaw:20260321T090000
DTEND;TZID=Europe/Warsaw:20260321T090000
DTSTAMP:20260419T155254
CREATED:20260226T084113Z
LAST-MODIFIED:20260226T084113Z
UID:7540-1774083600-1774083600@bielskobiala.cerkiew.pl
SUMMARY:Liturgia Święta - Wspomnienie zmarłych. Panichida sprawowana bezpośrednio  po Liturgii Świętej
DESCRIPTION:spowiedź od 8:30
URL:https://bielskobiala.cerkiew.pl/nabozenstwa/liturgia-swieta-wspomnienie-zmarlych-panichida-sprawowana-bezposrednio-po-liturgii-swietej-4
LOCATION:Cerkiew Prawosławna pw. Świętej Trójcy\, Jeżynowa / Rysia\, Bielsko-Biała\, śląskie\, 43-300\, Poland
END:VEVENT
BEGIN:VEVENT
DTSTART;TZID=Europe/Warsaw:20260321T170000
DTEND;TZID=Europe/Warsaw:20260321T170000
DTSTAMP:20260419T155254
CREATED:20260226T084145Z
LAST-MODIFIED:20260226T084145Z
UID:7542-1774112400-1774112400@bielskobiala.cerkiew.pl
SUMMARY:Całonocne czuwanie
DESCRIPTION:spowiedź po nabożeństwie
URL:https://bielskobiala.cerkiew.pl/nabozenstwa/calonocne-czuwanie-80
LOCATION:Cerkiew Prawosławna pw. Świętej Trójcy\, Jeżynowa / Rysia\, Bielsko-Biała\, śląskie\, 43-300\, Poland
END:VEVENT
END:VCALENDAR